Workbook

Sheet CY 2019
B1: Member | C1: Email Address | D1: Agency | E1: 2019 Paid Member | F1: Points Earned 2018 | G1: Value of Scholarship Points | H1: Amount of Scholarship | J1: 2018 Carry Forward (Bal. end of 2018) | K1: Total (Carry forward plus Current) | L1: Scholarship Used | M1: 2019 Balance | N1: Amount Deferred | O1: Deferment Form Rec'd | P1: 2019 Deferment Processed | Q1: No Deferment - Lost
A2: 1 | B2: Member 1 | C2: m1@gmail.com | D2: CFC NIGP | E2: x | F2: 465 | G2: 1.91 | H2: =SUM(F2)*G2 -> 888.15 | J2: 2760.25 | K2: =SUM(H2+J2) -> 3648.4 | L2: 366.4 | M2: =SUM(K2-L2) -> 3282 | O2: X | P2: 3282 | Q2: 0
A3: 2 | B3: Member 2 | C3: m2@gmail.com | D3: CFC NIGP | E3: x | F3: 930 | G3: 1.91 | H3: =SUM(F3)*G3 -> 1776.3 | J3: 774.16 | K3: =SUM(H3+J3) -> 2550.46 | L3: 590 | M3: =SUM(K3-L3) -> 1960.46 | O3: X | P3: 1960.46 | Q3: 0
A4: 3 | B4: Member 3 | C4: m3@gmail.com | D4: CFC NIGP | E4: X | F4: 375 | G4: 1.91 | H4: =SUM(F4)*G4 -> 716.25 | J4: 3383.92 | K4: =SUM(H4+J4) -> 4100.17 | L4: 2581.49 | M4: =SUM(K4-L4) -> 1518.68 | O4: X | P4: 1518.68 | Q4: 0
A5: 4 | B5: Member 4 | C5: m4@gmail.com | D5: CFC NIGP | E5: x | F5: 265 | G5: 1.91 | H5: =SUM(F5)*G5 -> 506.15 | J5: 1010.3 | K5: =SUM(H5+J5) -> 1516.45 | L5: 0 | M5: =SUM(K5-L5) -> 1516.45 | P5: 0 | Q5: 1516.45
F6: =SUM(F3:F5) -> 1570 | H6: =SUM(H3:H5) -> 2998.7 | J6: =SUM(J3:J5) -> 5168.38 | K6: =SUM(K3:K5) -> 8167.08 | M6: =SUM(M3:M5) -> 4995.59 | P6: =SUM(P3:P5) -> 3479.14 | Q6: =SUM(Q3:Q5) -> 1516.45
D9: Total Scholarship Dollars Approved to be distributed | F9: 35000
D10: Total Points Originally calculated | F10: 18533
D11: Total Scholarship Dollars Originally distributed | F11: 35398.03
D12: Dollar Value of each Point | F12: =F11/F10 -> 1.91
D13: Total Points Calculated AS REVISED | F13: 18728
D14: Total Scholarship Dollars Distributed AS REVISED | F14: 35770.48

Sheet 2019Usage
A1: # | B1: Member Name | C1: Total | D1: Desc | E1: Spent $ | F1: Desc | G1: Spent $ | H1: Desc | I1: Spent $ | J1: Desc | K1: Spent $ | L1: Desc | M1: Spent $ | N1: Desc | O1: Spent $ | P1: Desc | Q1: Spent $ | R1: Desc | S1: Spent $ | T1: Desc | U1: Spent $
A2: 1 | B2: Member 1 | C2: =SUM(E2)+G2+I2+K2+M2+O2+Q2+S2+U2 -> 366.4 | D2: CFC NIGP 3/15/19 Spring Seminar | E2: 50 | F2: FAPPO Board Mting and Conf May 12-16, 2019 Hotel, per diem, mileage | G2: 316.4
A3: 2 | B3: Member 2 | C3: =SUM(E3)+G3+I3+K3+M3+O3+Q3+S3+U3 -> 590 | D3: CPPO Prep Class March 9-10, 2020, Kissimmee | E3: 400 | F3: NIGP National Membership | G3: 190
A4: 3 | B4: Member 3 | C4: =SUM(E4)+G4+I4+K4+M4+O4+Q4+S4+U4 -> 2581.49 | D4: FAPPO 2019 Board Meeting, Jan 31-Feb 1, 2019 | E4: 250.04 | F4: UPPCC Recert 2019 | G4: 350 | H4: FAPPO Board Mting and Conf May 12-16, 2019 Hotel, per diem, mileage, parking | I4: 773.4 | J4: NIGP FORUM Aug 2019 per diem and hotel | K4: 1055.4 | L4: FAPPO Board Mting Oct 27, 2019 Hotel, per diem, mileage | M4: 343.65 | N4: CFC Manager of the Year Award - ADD 100 Points @ $1.91/point | O4: -191

Sheet CY 2018
B1: Member | C1: Email Address | D1: Agency | E1: 2014 Paid Member | F1: Points Earned 2017 | G1: Value of Scholarship Points | H1: Amount of Scholarship | J1: 2017 Carry Forward (Bal. end of 2017) | K1: Total (Carry forward plus Current) | L1: Scholarship Used | M1: 2018 Balance | N1: Amount Deferred | O1: Deferment Form Rec'd | P1: 2018 Deferment Processed | Q1: No Deferment - Lost
A2: 1 | B2: Member 1 | C2: m1@gmail.com | D2: CFC NIGP | F2: 940 | G2: 1.46 | H2: =(F2*G2) -> 1372.4 | J2: 1387.85 | K2: =SUM(H2+J2) -> 2760.25 | M2: =SUM(K2-L2) -> 2760.25 | O2: X | P2: 2760.25
A3: =A2+1 -> 2 | B3: Member 2 | C3: m2@gmail.com | D3: CFC NIGP | F3: 290 | G3: 1.46 | H3: =(F3*G3) -> 423.4 | J3: 1837.8954 | K3: =SUM(H3+J3) -> 2261.2954 | L3: 1487.14 | M3: =SUM(K3-L3) -> 774.15542 | O3: x | P3: 774.16
A4: 3 | B4: Member 3 | C4: m3@gmail.com | D4: CFC NIGP | F4: 390 | G4: 1.46 | H4: =(F4*G4) -> 569.4 | J4: 3586.348 | K4: =SUM(H4+J4) -> 4155.748 | L4: 771.83 | M4: =SUM(K4-L4) -> 3383.918 | O4: x | P4: 3383.92
F5: =SUM(F2:F4) -> 1620 | H5: =SUM(H2:H4) -> 2365.2 | J5: =SUM(J2:J4) -> 6812.0934 | K5: =SUM(K2:K4) -> 9177.2934 | M5: =SUM(M2:M4) -> 6918.3234 | P5: =SUM(P2:P4) -> 6918.33 | Q5: =SUM(Q2:Q4) -> 0
D7: Total Points | F7: 20810
D8: Total Scholarship Dollars Available | F8: 30382.6
D9: Dollar Value of each Point | F9: =F8/F7 -> 1.46

Sheet 2018Usage
A1: # | B1: Member Name | C1: Total | D1: Desc | E1: Spent $ | F1: Desc | G1: Spent $ | H1: Desc | I1: Spent $ | J1: Desc | K1: Spent $ | L1: Desc | M1: Spent $ | N1: Desc | O1: Spent $ | P1: Desc | Q1: Spent $ | R1: Desc | S1: Spent $ | T1: Desc | U1: Spent $
A2: 1 | B2: Member 1 | C2: =SUM(E2)+G2+I2+K2+M2+O2+Q2+S2+U2 -> 0
A3: 2 | B3: Member 2 | C3: =SUM(E3)+G3+I3+K3+M3+O3+Q3+S3+U3 -> 1487.14 | D3: FAPPO Conf Registration 05-22-18 to 05-25-18 | E3: 100 | F3: NIGP Forum Airfare Aug 18-22, 2018 Southwest Airlines | G3: 181.86 | H3: FAPPO Conf Travel per diem 05-23-18 to 05-25-18 | I3: 65.5 | J3: NIGP Forum Aug 18-22, 2018 Travel and per diem | K3: 297.71 | L3: NIGP FEMA Class July 9-10, 2018 | M3: 560 | N3: NIGP FORUM and FEMA class expenses Aug and July 2018 | O3: 137.3 | P3: 2018 CFC NIGP Travel Expenses | Q3: 144.77
A4: 3 | B4: Member 3 | C4: =SUM(E4)+G4+I4+K4+M4+O4+Q4+S4+U4 -> 771.83 | D4: NIGP Class -Contracting with Federal Funds Advanced November 6-7, 2017 at City of Palm Bay | E4: 510 | F4: FAPPO Conf Hotel Room 05-22-18 to 05-25-18 | G4: 261.83

Sheet CY 2013
B1: Member | C1: Email Address | D1: Agency | E1: 2013 Paid Member | F1: Points Earned 2013 | G1: Value of Scholarship Points | H1: Amount of Scholarship | J1: 2012 Carry Forward | K1: Total (Carry forward plus current) | L1: Scholarship Used | M1: Balance | N1: Amount Deferred | O1: Comments
A2: 1 | B2: Ackley-Danielson, Julie | C2: Julie.Ackley-Danielson@ocfl.net | D2: Orange County | F2: 325 | G2: =$F$87 -> 1 | H2: =F2*G2 -> 325 | J2: 2.98 | K2: =J2+H2 -> 327.98 | M2: =K2-L2 -> 327.98 | N2: =M2 -> 327.98
A3: =A2+1 -> 2 | B3: Alvarez, Jill | C3: jalvarez@lakemaryfl.com | D3: City of Lake Mary | G3: =$F$87 -> 1 | H3: =F3*G3 -> 0 | J3: 96.8 | K3: =J3+H3 -> 96.8 | M3: =K3-L3 -> 96.8
A4: =A3+1 -> 3 | B4: Alvarez, Maria | C4: maria.alvarez@ocfl.net | D4: Orange County | F4: 249 | G4: =$F$87 -> 1 | H4: =F4*G4 -> 249 | J4: 934.78 | K4: =J4+H4 -> 1183.78 | M4: =K4-L4 -> 1183.78 | N4: =M4 -> 1183.78
A5: =A4+1 -> 4 | B5: Barden, Juanita | C5: bardej@pbfl.org | D5: City of Palm Bay | F5: 322 | G5: =$F$87 -> 1 | H5: =F5*G5 -> 322 | J5: 70.29 | K5: =J5+H5+500 -> 892.29 | M5: =K5-L5 -> 892.29 | N5: =M5 -> 892.29 | O5: 3/21/14 +$500 Nancy Woodger Scholarship; NW Permitted to ROLL into 2015 by Majority vote of the BOD.
A6: =A5+1 -> 5 | B6: Bergman, Sally A. | C6: sally.bergman@ocfl.net | D6: Orange County | G6: =$F$87 -> 1 | H6: =F6*G6 -> 0 | J6: 707.95 | K6: =J6+H6 -> 707.95 | L6: 707.95 | M6: =K6-L6 -> 0 | N6: =M6 -> 0 | O6: 5/28/14 2014 Forum
A7: =A6+1 -> 6 | B7: Billingsley, David M. | C7: david.billingsley@cityoforlando.net | D7: City of Orlando | F7: 247 | G7: =$F$87 -> 1 | H7: =F7*G7 -> 247 | J7: 42.82 | K7: =J7+H7 -> 289.82 | M7: =K7-L7 -> 289.82 | N7: =M7 -> 289.82
A8: =A7+1 -> 7 | B8: Blair, Susan | C8: blairs@pbfl.org | D8: City of Palm Bay | F8: 579 | G8: =$F$87 -> 1 | H8: =F8*G8 -> 579 | J8: 1176.1 | K8: =J8+H8 -> 1755.1 | L8: 149.85 | M8: =K8-L8 -> 1605.25 | N8: =M8 -> 1605.25 | O8: 3/6/14 FAPPO $149.85
A9: =A8+1 -> 8 | B9: Blanton, Reba | C9: rblanton@cityofwinterpark.org | D9: City of Winter Park | G9: =$F$87 -> 1 | H9: =F9*G9 -> 0 | J9: 147.46 | K9: =J9+H9 -> 147.46 | M9: =K9-L9 -> 147.46
A10: =A9+1 -> 9 | B10: Bradley, Robert | C10: rbradley02@seminolecountyfl.gov | D10: Seminole County Gov't | F10: 207 | G10: =$F$87 -> 1 | H10: =F10*G10 -> 207 | J10: 439.05 | K10: =J10+H10 -> 646.05 | L10: 646.05 | M10: =K10-L10 -> 0 | N10: =M10 -> 0 | O10: 10/3/14 Strategic Procurment in Public Sector
A11: =A10+1 -> 10 | B11: Brown-Gordon, Courtney | C11: gordonc@oocea.com | D11: Orlando-Orange County Expressway | F11: 250 | G11: =$F$87 -> 1 | H11: =F11*G11 -> 250 | J11: 309.15 | K11: =J11+H11 -> 559.15 | M11: =K11-L11 -> 559.15 | N11: =M11 -> 559.15
A12: =A11+1 -> 11 | B12: Calkins, Fatima | C12: fcalkins@goaa.org | D12: GOAA | F12: 825 | G12: =$F$87 -> 1 | H12: =F12*G12 -> 825 | J12: 1419.73 | K12: =J12+H12 -> 2244.73 | L12: =187.61+149.95+1143.45 -> 1481.01 | M12: =K12-L12 -> 763.72 | N12: =M12 -> 763.72 | O12: 2/6/14FAPPO $149.85; FAPPO Mileage $187.61; 2014 Forum $1,143.45
A13: =A12+1 -> 12 | B13: Carter, Kyle | C13: kyle.carter@osceola.org | D13: Osceola County BCC | F13: 175 | G13: =$F$87 -> 1 | H13: =F13*G13 -> 175 | J13: 0 | K13: =J13+H13 -> 175 | M13: =K13-L13 -> 175 | N13: =M13 -> 175
A14: =A13+1 -> 13 | B14: Caudill, Kelley | C14: Caudill.Kelley@brevardschools.org | D14: Brevard County Public Schools | G14: =$F$87 -> 1 | H14: =F14*G14 -> 0 | J14: 101 | K14: =J14+H14 -> 101 | M14: =K14-L14 -> 101
A15: =A14+1 -> 14 | B15: Cohen, Betsy | C15: bcohen@seminolecountyfl.gov | D15: Seminole County Gov't | G15: =$F$87 -> 1 | H15: =F15*G15 -> 0 | J15: 434.3 | K15: =J15+H15 -> 434.3 | M15: =K15-L15 -> 434.3 | N15: =M15 -> 434.3
A16: =A15+1 -> 15 | B16: DeRostaing, Authur (Dino) | C16: aderostaing@goaa.org | D16: GOAA | F16: 327 | G16: =$F$87 -> 1 | H16: =F16*G16 -> 327 | J16: 18.43 | K16: =J16+H16 -> 345.43 | M16: =K16-L16 -> 345.43 | N16: =M16 -> 345.43
A17: =A16+1 -> 16 | B17: Durrum II, Anthony | C17: adurrum@cityofwinterpark.org | D17: City of Winter Park | G17: =$F$87 -> 1 | H17: =F17*G17 -> 0 | J17: 298.15 | K17: =J17+H17 -> 298.15 | L17: 200 | M17: =K17-L17 -> 98.15 | O17: 8/7/14 Recertification
A18: =A17+1 -> 17 | B18: Elzy, Karen | C18: karen.elzy@cityoforlando.net | D18: City of Orlando | F18: 140 | G18: =$F$87 -> 1 | H18: =F18*G18 -> 140 | J18: 381.6 | K18: =J18+H18 -> 521.6 | M18: =K18-L18 -> 521.6 | N18: =M18 -> 521.6
A19: =A18+1 -> 18 | B19: Ferrier, Brian | C19: brian.ferrier@cityoforlando.net | D19: Florida Dept. of Corrections | F19: 146 | G19: =$F$87 -> 1 | H19: =F19*G19 -> 146 | J19: 470.62 | K19: =J19+H19 -> 616.62 | M19: =K19-L19 -> 616.62 | N19: =M19 -> 616.62
A20: =A19+1 -> 19 | B20: Figueroa, Leticia | C20: lfigueroa@seminolecountyfl.gov | D20: Seminole County Gov't | F20: 80 | G20: =$F$87 -> 1 | H20: =F20*G20 -> 80 | J20: 205.95 | K20: =J20+H20 -> 285.95 | M20: =K20-L20 -> 285.95 | N20: =M20 -> 285.95
A21: =A20+1 -> 20 | B21: Flick, Joanne | C21: flickj@codb.us | D21: City of Daytona Beach | G21: =$F$87 -> 1 | H21: =F21*G21 -> 0 | J21: 205.5 | K21: =J21+H21 -> 205.5 | M21: =K21-L21 -> 205.5 | N21: =M21 -> 205.5
A22: =A21+1 -> 21 | B22: Freedman, Tabatha | C22: tfreedman@volusia.org | D22: County of Volusia | F22: 242 | G22: =$F$87 -> 1 | H22: =F22*G22 -> 242 | J22: 0 | K22: =J22+H22 -> 242 | M22: =K22-L22 -> 242 | N22: =M22 -> 242
A23: =A22+1 -> 22 | B23: Frias, Liz | C23: liz.frias@occc.net | D23: Orange County BCC | F23: 105 | G23: =$F$87 -> 1 | H23: =F23*G23 -> 105 | J23: 0 | K23: =J23+H23 -> 105 | M23: =K23-L23 -> 105 | N23: =M23 -> 105
A24: =A23+1 -> 23 | B24: Gant, Bruce | C24: bgant@goaa.org | D24: GOAA | G24: =$F$87 -> 1 | H24: =F24*G24 -> 0 | J24: 427.3 | K24: =J24+H24 -> 427.3 | M24: =K24-L24 -> 427.3 | N24: =M24 -> 427.3
A25: =A24+1 -> 24 | B25: Garcia, Gloria | C25: ggarcia@seminolecountyfl.gov | D25: Seminole County Gov't | F25: 320 | G25: =$F$87 -> 1 | H25: =F25*G25 -> 320 | J25: 0 | K25: =J25+H25 -> 320 | L25: =200+75 -> 275 | M25: =K25-L25 -> 45 | O25: 03/31/14 CPPB Recertification $200; 10/21/14 FAPPO registration
A26: =A25+1 -> 25 | B26: Gaskins, Donald | C26: donald.gaskins@osceola.org | D26: Osceola County BCC | F26: 160 | G26: =$F$87 -> 1 | H26: =F26*G26 -> 160 | J26: 19.45 | K26: =J26+H26 -> 179.45 | M26: =K26-L26 -> 179.45 | N26: =M26 -> 179.45
A27: =A26+1 -> 26 | B27: Geltch, Wendy | C27: wgeltch@hotmail.com | D27: Polk State College (Retired) | F27: 508 | G27: =$F$87 -> 1 | H27: =F27*G27 -> 508 | J27: 0 | K27: =J27+H27 -> 508 | L27: 502.18 | M27: =K27-L27 -> 5.82 | N27: =M27 -> 5.82 | O27: 12/15 FAPPO FALL
A28: =A27+1 -> 27 | B28: Gordon, Dorothy | C28: dorothy.gordon@ocfl.net | D28: Orange County | F28: 220 | G28: =$F$87 -> 1 | H28: =F28*G28 -> 220 | J28: 372.25 | K28: =J28+H28 -> 592.25 | M28: =K28-L28 -> 592.25 | N28: =M28 -> 592.25
A29: =A28+1 -> 28 | B29: Graham, Jessica | C29: Jgraham@altamonte.org | D29: University of Central Florida | G29: =$F$87 -> 1 | H29: =F29*G29 -> 0 | J29: 131.3 | K29: =J29+H29 -> 131.3 | M29: =K29-L29 -> 131.3 | N29: =M29 -> 131.3
A30: =A29+1 -> 29 | B30: Henzmann, Wil | C30: henzmann.william@brevardschools.org | D30: Brevard County Public Schools | F30: 115 | G30: =$F$87 -> 1 | H30: =F30*G30 -> 115 | J30: 16.9 | K30: =J30+H30 -> 131.9 | L30: 131.9 | M30: =K30-L30 -> 0 | N30: =M30 -> 0 | O30: 12/12/14 CPPB Exam
A31: =A30+1 -> 30 | B31: Hewitt, Carol | C31: carol.hewitt@ocfl.net | D31: Orange County | F31: 127 | G31: =$F$87 -> 1 | H31: =F31*G31 -> 127 | J31: 187.89 | K31: =J31+H31 -> 314.89 | M31: =K31-L31 -> 314.89 | N31: =M31 -> 314.89
A32: =A31+1 -> 31 | B32: Hobbs, Patrice (Patty) | C32: patty.hobbs@ocfl.net | D32: Orange County | G32: =$F$87 -> 1 | H32: =F32*G32 -> 0 | J32: 153.15 | K32: =J32+H32 -> 153.15 | M32: =K32-L32 -> 153.15 | N32: =M32 -> 153.15
A33: =A32+1 -> 32 | B33: Holcomb, Susan | C33: susan.holcomb@ocfl.net | D33: Orange County | F33: 12 | G33: =$F$87 -> 1 | H33: =F33*G33 -> 12 | J33: 64.64 | K33: =J33+H33 -> 76.64 | M33: =K33-L33 -> 76.64
A34: =A33+1 -> 33 | B34: Holmes, Felicia | C34: fholmes@tohowater.com | D34: Toho Water Authority | F34: 325 | G34: =$F$87 -> 1 | H34: =F34*G34 -> 325 | J34: 0 | K34: =J34+H34 -> 325 | M34: =K34-L34 -> 325 | N34: =M34 -> 325
A35: =A34+1 -> 34 | B35: Hooper, Ray | C35: rhooper@seminolecountyfl.gov | D35: Seminole County Gov't | G35: =$F$87 -> 1 | H35: =F35*G35 -> 0 | J35: 240.9 | K35: =J35+H35 -> 240.9 | M35: =K35-L35 -> 240.9 | N35: =M35 -> 240.9
A36: =A35+1 -> 35 | B36: Jessee, Cheryl | C36: jesseec@osceola.k12.fl.us | D36: Osceola County School District | G36: =$F$87 -> 1 | H36: =F36*G36 -> 0 | J36: 217.3 | K36: =J36+H36 -> 217.3 | M36: =K36-L36 -> 217.3 | N36: =M36 -> 217.3
A37: =A36+1 -> 36 | B37: Johnson, Robert | C37: johnsonr@oocea.com | D37: Orlando-Orange County Expressway | F37: 304 | G37: =$F$87 -> 1 | H37: =F37*G37 -> 304 | J37: 1482 | K37: =J37+H37 -> 1786 | M37: =K37-L37 -> 1786 | N37: =M37 -> 1786
A38: =A37+1 -> 37 | B38: Jones, Crystal | C38: jones.crystal@brevardschools.org | D38: Brevard County Public Schools | F38: 175 | G38: =$F$87 -> 1 | H38: =F38*G38 -> 175 | J38: 90.9 | K38: =J38+H38 -> 265.9 | L38: 250 | M38: =K38-L38 -> 15.9 | O38: 3/10/14- CPPB Exam $250.00
A39: =A38+1 -> 38 | B39: Jones, Jennifer | C39: jjones@cityofwinterpark.org | D39: City of Winter Park | F39: 298 | G39: =$F$87 -> 1 | H39: =F39*G39 -> 298 | J39: 797.27 | K39: =J39+H39 -> 1095.27 | L39: =349.55+320.88+145+131.63 -> 947.06 | M39: =K39-L39 -> 148.21 | N39: =M39 -> 148.21 | O39: 3/12/14- FAPPO $349.55 & FAPPO Per Diem $320.88; $145 CPPO Book; 04/28/14 FAPPO Car Rental $131.63
A40: =A39+1 -> 39 | B40: Jones, Rebecca | C40: rjon2@osceola.org | D40: Osceola County | F40: 110 | G40: =$F$87 -> 1 | H40: =F40*G40 -> 110 | J40: 0 | K40: =J40+H40 -> 110 | M40: =K40-L40 -> 110 | N40: =M40 -> 110
...

Sheet CY 2012
B1: Member | C1: Agency | D1: 2012 Paid Member | E1: Points Earned 2012 | F1: Value of Scholarship Points | G1: Amount of Scholarship | I1: 2011 Carry Forward | J1: Total (Carry forward plus current) | K1: Scholarship Used | L1: Balance | M1: Amount Deferred | N1: Comments
A2: 1 | B2: Ackley-Danielson, Julie | C2: Orange County | D2: Yes | E2: 390 | F2: 2.02 | G2: =E2*F2 -> 787.8 | I2: ='CY 2011'!M2 -> 242 | J2: =I2+G2 -> 1029.8 | K2: =554+350+29.82+45+48 -> 1026.82 | L2: =J2-K2 -> 2.98 | M2: =L2 -> 2.98 | N2: 4/30 - FORUM Registration - $554 - check 8/5 - Forum hotel ($350.00) and parking ($29.82) 8/5 - Add'l parking: non guest (45.00); per diem ($48)
A3: 2 | B3: Adams, Richard | C3: Florida Virtual School | F3: 2.02 | G3: =E3*F3 -> 0 | I3: ='CY 2011'!M3 -> 0 | J3: =I3+G3 -> 0 | L3: =J3-K3 -> 0
A4: 3 | B4: Alvarez, Jill | C4: City of Lake Mary | D4: Yes | F4: 2.02 | G4: =E4*F4 -> 0 | I4: ='CY 2011'!M4 -> 96.8 | J4: =I4+G4 -> 96.8 | K4: 0 | L4: =J4-K4 -> 96.8 | M4: =L4 -> 96.8
A5: 4 | B5: Alvarez, Maria | C5: Orange County | D5: Yes | E5: 319 | F5: 2.02 | G5: =E5*F5 -> 644.38 | I5: ='CY 2011'!M5 -> 290.4 | J5: =I5+G5 -> 934.78 | L5: =J5-K5 -> 934.78 | M5: =L5 -> 934.78
A6: 6 | B6: Aviles, Luis | C6: UCF | F6: 2.02 | G6: =E6*F6 -> 0 | I6: ='CY 2011'!M7 -> 106.8 | J6: =I6+G6 -> 106.8 | K6: 106.8 | L6: =J6-K6 -> 0 | N6: 10/3 - Reimbursement for Class $106.80
A7: 7 | B7: Barden, Juanita | C7: City of Palm Bay | D7: Yes | E7: 177 | F7: 2.02 | G7: =E7*F7 -> 357.54 | I7: ='CY 2011'!M8 -> 266.75 | J7: =I7+G7 -> 624.29 | K7: 554 | L7: =J7-K7 -> 70.29 | M7: =L7 -> 70.29 | N7: 4/30 - FORUM Registration - $554 - check
A8: 8 | B8: Bass, Amanda | C8: Toho Water Authority | F8: 2.02 | G8: =E8*F8 -> 0 | I8: ='CY 2011'!M9 -> 0 | J8: =I8+G8 -> 0 | L8: =J8-K8 -> 0
A9: 9 | B9: Benjamin, Joe | C9: Orange County | D9: Yes | E9: 230 | F9: 2.02 | G9: =E9*F9 -> 464.6 | I9: ='CY 2011'!M10 -> 248.05 | J9: =I9+G9 -> 712.65 | K9: 712.65 | L9: =J9-K9 -> 0 | N9: 4/30 - FORUM Registration - $712.65
A10: 10 | B10: Bennett, Linda | C10: Lake County Schools | F10: 2.02 | G10: =E10*F10 -> 0 | I10: ='CY 2011'!M11 -> 0 | J10: =I10+G10 -> 0 | L10: =J10-K10 -> 0
A11: 11 | B11: Bergman, Sally A. | C11: Orange County | D11: Yes | E11: 120 | F11: 2.02 | G11: =E11*F11 -> 242.4 | I11: ='CY 2011'!M12 -> 465.55 | J11: =I11+G11 -> 707.95 | L11: =J11-K11 -> 707.95 | M11: =L11 -> 707.95
A12: 12 | B12: Biddle, Belinda | C12: Orange County Public Schools | F12: 2.02 | G12: =E12*F12 -> 0 | I12: ='CY 2011'!M13 -> 0 | J12: =I12+G12 -> 0 | L12: =J12-K12 -> 0
A13: 13 | B13: Rumping, Kristine | C13: Brevard County School District | D13: Yes | E13: 411 | F13: 2.02 | G13: =E13*F13 -> 830.22 | I13: ='CY 2011'!M14 -> 0 | J13: =I13+G13 -> 830.22 | K13: =175+250 -> 425 | L13: =J13-K13 -> 405.22 | M13: =L13 -> 405.22 | N13: 8/19 - CPPO Application Fee $175.00 9/16 - $250 CPPO Exam Fee
A14: 14 | B14: Billingsley, David M. | C14: City of Orlando | D14: Yes | E14: 211 | F14: 2.02 | G14: =E14*F14 -> 426.22 | I14: ='CY 2011'!M15 -> 345.6 | J14: =I14+G14 -> 771.82 | K14: 729 | L14: =J14-K14 -> 42.82 | M14: =L14 -> 42.82 | N14: 4/29 - FORUM Registration - $729.00
A15: 15 | B15: Blair, Susan | C15: City of Palm Bay | D15: Yes | E15: 530 | F15: 2.02 | G15: =E15*F15 -> 1070.6 | I15: ='CY 2011'!M16 -> 906 | J15: =I15+G15 -> 1976.6 | K15: =581.73+218.77+99-99 -> 800.5 | L15: =J15-K15 -> 1176.1 | M15: =L15 -> 1176.1 | N15: 6/18 - Forum: Hotel ($537) & Parking ($44.73) - $581.73 7/9 - Forum per diem / mileage $218.77 10/9 - $99 Hotel @ FAPPO Fall Conference 11/1 - returned check for FAPPO hotel (+$99)
A16: 16 | B16: Blanton, Reba | C16: City of Winter Park | D16: Yes | E16: 73 | F16: 2.02 | G16: =E16*F16 -> 147.46 | I16: ='CY 2011'!M17 -> 0 | J16: =I16+G16 -> 147.46 | L16: =J16-K16 -> 147.46 | M16: =L16 -> 147.46
A17: 17 | B17: Boodram, Bibi | C17: Lake County Schools | F17: 2.02 | G17: =E17*F17 -> 0 | I17: ='CY 2011'!M18 -> 0 | J17: =I17+G17 -> 0 | L17: =J17-K17 -> 0
A18: 18 | B18: Bradley, Robert | C18: Seminole County Gov't | D18: Yes | F18: 2.02 | G18: =E18*F18 -> 0 | I18: ='CY 2011'!M19 -> 439.05 | J18: =I18+G18 -> 439.05 | L18: =J18-K18 -> 439.05 | M18: =L18 -> 439.05
A19: 19 | B19: Brown, Doug | C19: City of Port Orange | F19: 2.02 | G19: =E19*F19 -> 0 | I19: ='CY 2011'!M20 -> 0 | J19: =I19+G19 -> 0 | L19: =J19-K19 -> 0
A20: 20 | B20: Brown, Kathy | C20: Osceola County School District | F20: 2.02 | G20: =E20*F20 -> 0 | I20: ='CY 2011'!M21 -> 0 | J20: =I20+G20 -> 0 | L20: =J20-K20 -> 0
A21: 21 | B21: Brown-Gordon, Courtney | C21: Orlando-Orange County Expressway | D21: Yes | E21: 120 | F21: 2.02 | G21: =E21*F21 -> 242.4 | I21: ='CY 2011'!M22 -> 66.75 | J21: =I21+G21 -> 309.15 | L21: =J21-K21 -> 309.15 | M21: =L21 -> 309.15
A22: 22 | B22: Bruce, John | C22: City of Mount Dora | F22: 2.02 | G22: =E22*F22 -> 0 | I22: ='CY 2011'!M23 -> 0 | J22: =I22+G22 -> 0 | L22: =J22-K22 -> 0
A23: 23 | B23: Bryan, Cynthia | C23: Kissimmee Utility Authority | D23: Yes | E23: 230 | F23: 2.02 | G23: =E23*F23 -> 464.6 | I23: ='CY 2011'!M24 -> 256.1 | J23: =I23+G23 -> 720.7 | K23: =554+166.7 -> 720.7 | L23: =J23-K23 -> 0 | N23: 4/30 - FORUM Registration $554 - check 6/17 - Partial night hotel $166.70
A24: 24 | B24: Caddy, Mary | C24: Orange County Public Schools | F24: 2.02 | G24: =E24*F24 -> 0 | I24: ='CY 2011'!M25 -> 0 | J24: =I24+G24 -> 0 | L24: =J24-K24 -> 0
A25: 25 | B25: Calkins, Fatima | C25: GOAA | D25: Yes | E25: 530 | F25: 2.02 | G25: =E25*F25 -> 1070.6 | I25: ='CY 2011'!M26 -> 936.95 | J25: =I25+G25 -> 2007.55 | K25: =200+387.82 -> 587.82 | L25: =J25-K25 -> 1419.73 | M25: =L25 -> 1419.73 | N25: 3/21 - Recertification - $200 6/18 - Forum Hotel ($358) & Parking (29.82) - 387.82
A26: 26 | B26: Carson, Linda | C26: Orange County | D26: Yes | E26: 235 | F26: 2.02 | G26: =E26*F26 -> 474.7 | I26: ='CY 2011'!M27 -> 318 | J26: =I26+G26 -> 792.7 | K26: 792.7 | L26: =J26-K26 -> 0 | N26: 5/6 - FORUM Registration - $792.70
A27: 27 | B27: Caudill, Kelley | C27: Brevard County Public Schools | D27: Yes | E27: 50 | F27: 2.02 | G27: =E27*F27 -> 101 | J27: =I27+G27 -> 101 | L27: =J27-K27 -> 101 | M27: =L27 -> 101
A28: 28 | B28: Ciraldo Hysell, Linda | C28: Osceola County School District | F28: 2.02 | G28: =E28*F28 -> 0 | I28: ='CY 2011'!M28 -> 31.15 | J28: =I28+G28 -> 31.15 | L28: =J28-K28 -> 31.15 | M28: 0 | N28: No longer a Chapter member.
A29: 29 | B29: Cohen, Betsy | C29: Seminole County Gov't | D29: Yes | E29: 215 | F29: 2.02 | G29: =E29*F29 -> 434.3 | I29: ='CY 2011'!M29 -> 0 | J29: =I29+G29 -> 434.3 | L29: =J29-K29 -> 434.3 | M29: =L29 -> 434.3
A30: 30 | B30: Conley, Crystal | C30: City of Ocoee | F30: 2.02 | G30: =E30*F30 -> 0 | I30: ='CY 2011'!M30 -> 0 | J30: =I30+G30 -> 0 | L30: =J30-K30 -> 0
A31: 31 | B31: Cooper, Roger | C31: City of Orlando | D31: Yes | E31: 235 | F31: 2.02 | G31: =E31*F31 -> 474.7 | I31: ='CY 2011'!M31 -> 0 | J31: =I31+G31 -> 474.7 | K31: =200+175+99.7 -> 474.7 | L31: =J31-K31 -> 0 | N31: 3/26 - Lifetime certification $200 4/8 - FAPPO 1 day $175 6/6 - Mileage reimbursement FAPPO - $99.70
A32: 32 | B32: Coste, Silvia | C32: Orange County Clerk of Courts | F32: 2.02 | G32: =E32*F32 -> 0 | I32: ='CY 2011'!M32 -> 0 | J32: =I32+G32 -> 0 | L32: =J32-K32 -> 0
A33: 33 | B33: Cromity, Louemma | C33: City of Casselberry | F33: 2.02 | G33: =E33*F33 -> 0 | I33: ='CY 2011'!M33 -> 0 | J33: =I33+G33 -> 0 | L33: =J33-K33 -> 0
A34: 35 | B34: Davis, William (Perry) | C34: Orange County | F34: 2.02 | G34: =E34*F34 -> 0 | I34: ='CY 2011'!M34 -> 0 | J34: =I34+G34 -> 0 | L34: =J34-K34 -> 0
A35: 36 | B35: DeRostaing, Authur (Dino) | C35: GOAA | D35: Yes | E35: 274 | F35: 2.02 | G35: =E35*F35 -> 553.48 | I35: ='CY 2011'!M35 -> 497.95 | J35: =I35+G35 -> 1051.43 | K35: =554+300+179 -> 1033 | L35: =J35-K35 -> 18.43 | M35: =L35 -> 18.43 | N35: 4/23 - FORUM Registration - $554.00 6/6 - CPPB & CPPO (Dual) Recertification - $300 7/9 - Forum Hotel ($179)
A36: 37 | B36: Dickerson, Richard | C36: Utilities Comm, New Smyrna Beach | F36: 2.02 | G36: =E36*F36 -> 0 | I36: ='CY 2011'!M36 -> 0 | J36: =I36+G36 -> 0 | L36: =J36-K36 -> 0
A37: 38 | B37: Dover, Steveelee | C37: Utilities Comm, New Smyrna Beach | F37: 2.02 | G37: =E37*F37 -> 0 | I37: ='CY 2011'!M37 -> 0 | J37: =I37+G37 -> 0 | L37: =J37-K37 -> 0
A38: 39 | B38: Dugan, Susan | C38: Lake County | F38: 2.02 | G38: =E38*F38 -> 0 | I38: ='CY 2011'!M38 -> 0 | J38: =I38+G38 -> 0 | L38: =J38-K38 -> 0
A39: 40 | B39: Durrum II, Anthony | C39: City of Winter Park | F39: 2.02 | G39: =E39*F39 -> 0 | I39: ='CY 2011'!M39 -> 298.15 | J39: =I39+G39 -> 298.15 | L39: =J39-K39 -> 298.15 | M39: =L39 -> 298.15
A40: 41 | B40: Elzy, Karen | C40: City of Orlando | D40: Yes | E40: 135 | F40: 2.02 | G40: =E40*F40 -> 272.7 | I40: ='CY 2011'!M40 -> 108.9 | J40: =I40+G40 -> 381.6 | L40: =J40-K40 -> 381.6 | M40: =L40 -> 381.6
...

Sheet CY 2011
B1: Member | C1: Agency | D1: 2011 Paid Member | E1: Points Earned 2011 | F1: Value of Scholarship Points | G1: Amount of Scholarship | I1: 2010 Carry Forward | J1: Total (Carry forward plus current) | K1: Scholarship Used | L1: Amount Deferred | M1: Balance | N1: Comments
A2: 1 | B2: Ackley-Danielson, Julie | C2: Orange County | D2: Yes | E2: 200 | F2: 1.21 | G2: =E2*F2 -> 242 | I2: 0 | J2: =I2+G2 -> 242 | L2: 242 | M2: 242 | N2: Redemption received 8/13 - defer
A3: 2 | B3: Adams, Richard | C3: Florida Virtual School | E3: 0 | F3: 1.21 | G3: =E3*F3 -> 0 | I3: 0 | J3: =I3+G3 -> 0
A4: 3 | B4: Alvarez, Jill | C4: City of Lake Mary | D4: Yes | E4: 80 | F4: 1.21 | G4: =E4*F4 -> 96.8 | I4: 0 | J4: =I4+G4 -> 96.8 | L4: 96.8 | M4: 96.8
A5: 4 | B5: Alvarez, Maria | C5: Orange County | D5: Yes | E5: 240 | F5: 1.21 | G5: =E5*F5 -> 290.4 | I5: 0 | J5: =I5+G5 -> 290.4 | L5: 290.4 | M5: 290.4 | N5: Deferred per email 1/11/13
A6: 5 | B6: Au, Dottie | C6: Lake County Clerk of Court | E6: 0 | F6: 1.21 | G6: =E6*F6 -> 0 | I6: 0 | J6: =I6+G6 -> 0 | N6: Retiring 1/2012
A7: 6 | B7: Aviles, Luis | C7: UCF | E7: 0 | F7: 1.21 | G7: =E7*F7 -> 0 | I7: 106.8 | J7: =I7+G7 -> 106.8 | L7: 106.8 | M7: 106.8
A8: 7 | B8: Barden, Juanita | C8: City of Palm Bay | D8: Yes | E8: 180 | F8: 1.21 | G8: =E8*F8 -> 217.8 | I8: 48.95 | J8: =I8+G8 -> 266.75 | L8: 266.75 | M8: 266.75 | N8: Redemption received 9/10 - defer
A9: 8 | B9: Bass, Amanda | C9: Toho Water Authority | E9: 0 | F9: 1.21 | G9: =E9*F9 -> 0 | I9: 0 | J9: =I9+G9 -> 0
A10: 9 | B10: Benjamin, Joe | C10: Orange County | D10: Yes | E10: 205 | F10: 1.21 | G10: =E10*F10 -> 248.05 | J10: =I10+G10 -> 248.05 | L10: 248.05 | M10: 248.05 | N10: Redemption received 8/17 - defer
A11: 10 | B11: Bennett, Linda | C11: Lake County Schools | E11: 0 | F11: 1.21 | G11: =E11*F11 -> 0 | I11: 0 | J11: =I11+G11 -> 0
A12: 11 | B12: Bergman, Sally A. | C12: Orange County | D12: Yes | E12: 245 | F12: 1.21 | G12: =E12*F12 -> 296.45 | I12: 169.1 | J12: =I12+G12 -> 465.55 | L12: 465.55 | M12: 465.55
A13: 12 | B13: Biddle, Belinda | C13: Orange County Public Schools | E13: 0 | F13: 1.21 | G13: =E13*F13 -> 0 | I13: 0 | J13: =I13+G13 -> 0
A14: 13 | B14: Bigalow, Kristine (Rumping) | C14: Osceola County School District | D14: Yes | E14: 300 | F14: 1.21 | G14: =E14*F14 -> 363 | I14: 186.9 | J14: =I14+G14 -> 549.9 | K14: 549.9 | L14: 0 | M14: 0 | N14: FAPPO Conference Registration
A15: 14 | B15: Billingsley, David M. | C15: City of Orlando | D15: Yes | E15: 190 | F15: 1.21 | G15: =E15*F15 -> 229.9 | I15: 115.7 | J15: =I15+G15 -> 345.6 | L15: 345.6 | M15: 345.6 | N15: Redemption received 7/13 - defer
A16: 15 | B16: Blair, Susan | C16: City of Palm Bay | D16: Yes | E16: 495 | F16: 1.21 | G16: =E16*F16 -> 598.95 | I16: 307.05 | J16: =I16+G16 -> 906 | L16: 906 | M16: 906 | N16: Redemption received 5/22 - defer
A17: 16 | B17: Blanton, Reba | C17: City of Winter Park | E17: 0 | F17: 1.21 | G17: =E17*F17 -> 0 | I17: 0 | J17: =I17+G17 -> 0
A18: 17 | B18: Boodram, Bibi | C18: Lake County Schools | E18: 0 | F18: 1.21 | G18: =E18*F18 -> 0 | I18: 0 | J18: =I18+G18 -> 0
A19: 18 | B19: Bradley, Robert | C19: Seminole County Gov't | D19: Yes | E19: 190 | F19: 1.21 | G19: =E19*F19 -> 229.9 | I19: 209.15 | J19: =I19+G19 -> 439.05 | L19: 439.05 | M19: 439.05
A20: 19 | B20: Brown, Doug | C20: City of Port Orange | E20: 0 | F20: 1.21 | G20: =E20*F20 -> 0 | I20: 0 | J20: =I20+G20 -> 0
A21: 20 | B21: Brown, Kathy | C21: Osceola County School District | E21: 0 | F21: 1.21 | G21: =E21*F21 -> 0 | I21: 0 | J21: =I21+G21 -> 0
A22: 21 | B22: Brown-Gordon, Courtney | C22: Orlando-Orange County Expressway | E22: 0 | F22: 1.21 | G22: =E22*F22 -> 0 | I22: 66.75 | J22: =I22+G22 -> 66.75 | L22: 66.75 | M22: 66.75
A23: 22 | B23: Bruce, John | C23: City of Mount Dora | E23: 0 | F23: 1.21 | G23: =E23*F23 -> 0 | I23: 0 | J23: =I23+G23 -> 0
A24: 23 | B24: Bryan, Cynthia | C24: Kissimmee Utility Authority | D24: Yes | E24: 105 | F24: 1.21 | G24: =E24*F24 -> 127.05 | I24: 129.05 | J24: =I24+G24 -> 256.1 | L24: 256.1 | M24: 256.1 | N24: Redemption received 7/16 - defer
A25: 24 | B25: Caddy, Mary | C25: Orange County Public Schools | E25: 0 | F25: 1.21 | G25: =E25*F25 -> 0 | I25: 0 | J25: =I25+G25 -> 0
A26: 25 | B26: Calkins, Fatima | C26: GOAA | D26: Yes | E26: 550 | F26: 1.21 | G26: =E26*F26 -> 665.5 | I26: 271.45 | J26: =I26+G26 -> 936.95 | L26: 936.95 | M26: 936.95 | N26: Redemption received 12/31 - defer
A27: 26 | B27: Carson, Linda | C27: Orange County | D27: Yes | E27: 240 | F27: 1.21 | G27: =E27*F27 -> 290.4 | I27: 27.6 | J27: =I27+G27 -> 318 | L27: 0 | M27: 318 | N27: Redemption received 7/13 - defer
A28: 27 | B28: Ciraldo Hysell, Linda | C28: Osceola County School District | E28: 0 | F28: 1.21 | G28: =E28*F28 -> 0 | I28: 31.15 | J28: =I28+G28 -> 31.15 | L28: 31.15 | M28: 31.15
A29: 28 | B29: Cohen, Betsy | C29: Seminole County Gov't | E29: 0 | F29: 1.21 | G29: =E29*F29 -> 0 | I29: 0 | J29: =I29+G29 -> 0
A30: 29 | B30: Conley, Crystal | C30: City of Ocoee | E30: 0 | F30: 1.21 | G30: =E30*F30 -> 0 | I30: 0 | J30: =I30+G30 -> 0
A31: 30 | B31: Cooper, Roger | C31: City of Orlando | E31: 0 | F31: 1.21 | G31: =E31*F31 -> 0 | I31: 0 | J31: =I31+G31 -> 0
A32: 31 | B32: Coste, Silvia | C32: Orange County Clerk of Courts | E32: 0 | F32: 1.21 | G32: =E32*F32 -> 0 | I32: 0 | J32: =I32+G32 -> 0
A33: 32 | B33: Cromity, Louemma | C33: City of Casselberry | E33: 0 | F33: 1.21 | G33: =E33*F33 -> 0 | I33: 0 | J33: =I33+G33 -> 0
A34: 33 | B34: Davis, William (Perry) | C34: Orange County | E34: 0 | F34: 1.21 | G34: =E34*F34 -> 0 | I34: 0 | J34: =I34+G34 -> 0
A35: 34 | B35: DeRostaing, Authur (Dino) | C35: GOAA | D35: Yes | E35: 235 | F35: 1.21 | G35: =E35*F35 -> 284.35 | I35: 213.6 | J35: =I35+G35 -> 497.95 | L35: 497.95 | M35: 497.95 | N35: Redemption received 7/13 - defer
A36: 35 | B36: Dickerson, Richard | C36: Utilities Comm, New Smyrna Beach | E36: 0 | F36: 1.21 | G36: =E36*F36 -> 0 | I36: 0 | J36: =I36+G36 -> 0
A37: 36 | B37: Dover, Steveelee | C37: Utilities Comm, New Smyrna Beach | E37: 0 | F37: 1.21 | G37: =E37*F37 -> 0 | I37: 0 | J37: =I37+G37 -> 0
A38: 37 | B38: Dugan, Susan | C38: Lake County | E38: 0 | F38: 1.21 | G38: =E38*F38 -> 0 | I38: 0 | J38: =I38+G38 -> 0
A39: 38 | B39: Durrum II, Anthony | C39: City of Winter Park | E39: 0 | F39: 1.21 | G39: =E39*F39 -> 0 | I39: 298.15 | J39: =I39+G39 -> 298.15 | L39: 298.15 | M39: 298.15
A40: 39 | B40: Elzy, Karen | C40: City of Orlando | D40: Yes | E40: 90 | F40: 1.21 | G40: =E40*F40 -> 108.9 | I40: 0 | J40: =I40+G40 -> 108.9 | L40: 108.9 | M40: 108.9 | N40: Redemption received 8/13 - defer
...

Sheet CY 2010
B1: Member | C1: Agency | D1: 2010 Paid Member | E1: Total Points | F1: Value of Scholarship Points | G1: … | H1: 2010 Scholarship Earned | I1: Scholarship Used | J1: Amount Deferred | K1: Balance | L1: Comments
A2: 1 | B2: Ackley-Danielson, Julie | C2: Orange County | D2: Yes | E2: 150 | F2: 0.89 | H2: =F2*E2 -> 133.5 | I2: 133.5 | J2: 0 | K2: 0 | L2: FAPPO Spring Conference
A3: 2 | B3: Adams, Richard | C3: Florida Virtual School | D3: Yes | E3: 0 | F3: 0.89 | H3: =F3*E3 -> 0
A4: 3 | B4: Alvarez, Jill | C4: City of Lake Mary | D4: Yes | E4: 0 | F4: 0.89 | H4: =F4*E4 -> 0
A5: 4 | B5: Alvarez, Maria | C5: Orange County | D5: Yes | E5: 80 | F5: 0.89 | H5: =F5*E5 -> 71.2 | I5: 71.2 | J5: 0 | K5: 0 | L5: FAPPO Spring Conference
A6: 5 | B6: Au, Dottie | C6: Lake County Clerk of Court | D6: Yes | E6: 165 | F6: 0.89 | H6: =F6*E6 -> 146.85 | L6: Retiring 1/2012 - not using
A7: 6 | B7: Aviles, Luis | C7: UCF | D7: Yes | E7: 120 | F7: 0.89 | H7: =F7*E7 -> 106.8 | I7: 0 | J7: 106.8 | K7: 106.8 | L7: Deferred to 2012
A8: 7 | B8: Barden, Juanita | C8: City of Palm Bay | D8: Yes | E8: 55 | F8: 0.89 | H8: =F8*E8 -> 48.95 | J8: 48.95 | K8: 48.95 | L8: Deferred to 2012
A9: 8 | B9: Bass, Amanda | C9: Toho Water Authority | D9: Yes | E9: 0 | F9: 0.89 | H9: =F9*E9 -> 0
A10: 9 | B10: Bennett, Linda | C10: Lake County Schools | D10: Yes | E10: 0 | F10: 0.89 | H10: =F10*E10 -> 0
A11: 10 | B11: Bergman, Sally A. | C11: Orange County | D11: Yes | E11: 190 | F11: 0.89 | H11: =F11*E11 -> 169.1 | I11: 0 | J11: 169.1 | K11: 169.1 | L11: Deferred to 2012
A12: 11 | B12: Biddle, Belinda | C12: Orange County Public Schools | D12: Yes | E12: 0 | F12: 0.89 | H12: =F12*E12 -> 0
A13: 12 | B13: Bigalow, Kristine (Rumping) | C13: Osceola County School District | D13: Yes | E13: 210 | F13: 0.89 | H13: =F13*E13 -> 186.9 | I13: 0 | J13: 186.9 | K13: 186.9 | L13: Deferred to 2012
A14: 13 | B14: Billingsley, David M. | C14: City of Orlando | D14: Yes | E14: 130 | F14: 0.89 | H14: =F14*E14 -> 115.7 | I14: 0 | J14: 115.7 | K14: 115.7 | L14: Deferred to 2012
A15: 14 | B15: Blair, Susan | C15: City of Palm Bay | D15: Yes | E15: 345 | F15: 0.89 | H15: =F15*E15 -> 307.05 | I15: 0 | J15: 307.05 | K15: 307.05 | L15: Deferred to 2012
A16: 15 | B16: Blanton, Reba | C16: City of Winter Park | D16: Yes | E16: 0 | F16: 0.89 | H16: =F16*E16 -> 0
A17: 16 | B17: Boodram, Bibi | C17: Lake County Schools | D17: Yes | E17: 0 | F17: 0.89 | H17: =F17*E17 -> 0
A18: 17 | B18: Bradley, Robert | C18: Seminole County Gov't | D18: Yes | E18: 235 | F18: 0.89 | H18: =F18*E18 -> 209.15 | J18: 209.15 | K18: 209.15 | L18: Deferred to 2012
A19: 18 | B19: Bravo, Rufino (Mike) | C19: Orange County | D19: Yes | E19: 0 | F19: 0.89 | H19: =F19*E19 -> 0 | L19: Retired in 2010
A20: 19 | B20: Brown, Doug | C20: City of Port Orange | D20: Yes | E20: 0 | F20: 0.89 | H20: =F20*E20 -> 0
A21: 20 | B21: Brown, Kathy | C21: Osceola County School District | D21: Yes | E21: 0 | F21: 0.89 | H21: =F21*E21 -> 0
A22: 21 | B22: Brown-Gordon, Courtney | C22: Orlando-Orange County Expressway | D22: Yes | E22: 75 | F22: 0.89 | H22: =F22*E22 -> 66.75 | I22: 0 | J22: 66.75 | K22: 66.75 | L22: Deferred to 2012
A23: 22 | B23: Bruce, John | C23: City of Mount Dora | D23: Yes | E23: 0 | F23: 0.89 | H23: =F23*E23 -> 0
A24: 23 | B24: Bryan, Cynthia | C24: Kissimmee Utility Authority | D24: Yes | E24: 145 | F24: 0.89 | H24: =F24*E24 -> 129.05 | I24: 0 | J24: 129.05 | K24: 129.05 | L24: Exception granted to defer funds 1.23.12
A25: 24 | B25: Caddy, Mary | C25: Orange County Public Schools | D25: Yes | E25: 0 | F25: 0.89 | H25: =F25*E25 -> 0
A26: 25 | B26: Calkins, Fatima | C26: GOAA | D26: Yes | E26: 305 | F26: 0.89 | H26: =F26*E26 -> 271.45 | I26: 0 | J26: 271.45 | K26: 271.45 | L26: Deferred to 2012
A27: 26 | B27: Carson, Linda | C27: Orange County | D27: Yes | E27: 340 | F27: 0.89 | H27: =F27*E27 -> 302.6 | I27: 275 | J27: 27.6 | K27: 27.6 | L27: FAPPO Spring Conference
A28: 27 | B28: Ciraldo Hysell, Linda | C28: Osceola County School District | D28: Yes | E28: 35 | F28: 0.89 | H28: =F28*E28 -> 31.15 | I28: 0 | J28: 31.15 | K28: 31.15 | L28: Deferred to 2012
A29: 28 | B29: Cohen, Betsy | C29: Seminole County Gov't | D29: Yes | E29: 0 | F29: 0.89 | H29: =F29*E29 -> 0
A30: 29 | B30: Coleman, Ginny | C30: Orange County | D30: Yes | E30: 0 | F30: 0.89 | H30: =F30*E30 -> 0 | L30: Retired in 2011
A31: 30 | B31: Conley, Crystal | C31: City of Ocoee | D31: Yes | E31: 0 | F31: 0.89 | H31: =F31*E31 -> 0
A32: 31 | B32: Cooper, Roger | C32: City of Orlando | D32: Yes | E32: 0 | F32: 0.89 | H32: =F32*E32 -> 0
A33: 32 | B33: Coste, Silvia | C33: Orange County Clerk of Courts | D33: Yes | E33: 0 | F33: 0.89 | H33: =F33*E33 -> 0
A34: 33 | B34: Cromity, Louemma | C34: City of Casselberry | D34: Yes | E34: 0 | F34: 0.89 | H34: =F34*E34 -> 0
A35: 34 | B35: Davis, William (Perry) | C35: Orange County | D35: Yes | E35: 205 | F35: 0.89 | H35: =F35*E35 -> 182.45 | I35: 182.45 | J35: 0 | K35: 0 | L35: FAPPO Spring Conference
A36: 35 | B36: DeRostaing, Authur (Dino) | C36: GOAA | D36: Yes | E36: 240 | F36: 0.89 | H36: =F36*E36 -> 213.6 | I36: 0 | J36: 213.6 | K36: 213.6 | L36: Deferred to 2012
A37: 36 | B37: Dickerson, Richard | C37: Utilities Comm, New Smyrna Beach | D37: Yes | E37: 0 | F37: 0.89 | H37: =F37*E37 -> 0
A38: 37 | B38: Dover, Steveelee | C38: Utilities Comm, New Smyrna Beach | D38: Yes | E38: 0 | F38: 0.89 | H38: =F38*E38 -> 0
A39: 38 | B39: Dugan, Susan | C39: Lake County | D39: Yes | E39: 0 | F39: 0.89 | H39: =F39*E39 -> 0
A40: 39 | B40: Durrum II, Anthony | C40: City of Winter Park | D40: Yes | E40: 335 | F40: 0.89 | H40: =F40*E40 -> 298.15 | J40: 298.15 | K40: 298.15 | L40: Deferred to 2012
...
